BEGIN:VCALENDAR
VERSION:2.0
PRODID:-//Kenmore Community Rowing Club - ECPv6.15.20//NONSGML v1.0//EN
CALSCALE:GREGORIAN
METHOD:PUBLISH
X-WR-CALNAME:Kenmore Community Rowing Club
X-ORIGINAL-URL:https://kenmorerowing.org
X-WR-CALDESC:Events for Kenmore Community Rowing Club
REFRESH-INTERVAL;VALUE=DURATION:PT1H
X-Robots-Tag:noindex
X-PUBLISHED-TTL:PT1H
BEGIN:VTIMEZONE
TZID:America/Los_Angeles
BEGIN:DAYLIGHT
TZOFFSETFROM:-0800
TZOFFSETTO:-0700
TZNAME:PDT
DTSTART:20220313T100000
END:DAYLIGHT
BEGIN:STANDARD
TZOFFSETFROM:-0700
TZOFFSETTO:-0800
TZNAME:PST
DTSTART:20221106T090000
END:STANDARD
BEGIN:DAYLIGHT
TZOFFSETFROM:-0800
TZOFFSETTO:-0700
TZNAME:PDT
DTSTART:20230312T100000
END:DAYLIGHT
BEGIN:STANDARD
TZOFFSETFROM:-0700
TZOFFSETTO:-0800
TZNAME:PST
DTSTART:20231105T090000
END:STANDARD
BEGIN:DAYLIGHT
TZOFFSETFROM:-0800
TZOFFSETTO:-0700
TZNAME:PDT
DTSTART:20240310T100000
END:DAYLIGHT
BEGIN:STANDARD
TZOFFSETFROM:-0700
TZOFFSETTO:-0800
TZNAME:PST
DTSTART:20241103T090000
END:STANDARD
BEGIN:DAYLIGHT
TZOFFSETFROM:-0800
TZOFFSETTO:-0700
TZNAME:PDT
DTSTART:20250309T100000
END:DAYLIGHT
BEGIN:STANDARD
TZOFFSETFROM:-0700
TZOFFSETTO:-0800
TZNAME:PST
DTSTART:20251102T090000
END:STANDARD
END:VTIMEZONE
BEGIN:VEVENT
DTSTART;VALUE=DATE:20241022
DTEND;VALUE=DATE:20241115
DTSTAMP:20260423T162739
CREATED:20241006T040403Z
LAST-MODIFIED:20241006T040403Z
UID:2894-1729555200-1731628799@kenmorerowing.org
SUMMARY:2024 Q4A LTR
DESCRIPTION:Adult Learn-to-Row! \nTuesdays & Thursdays 6:00AM-8:00AM 10/22/2024 to 11/14/2024
URL:https://kenmorerowing.org/event/2024-q4a-ltr/
LOCATION:Kenmore Community Boathouse\, 17104 68th Ave NE\, Kenmore\, WA\, 98028\, United States
CATEGORIES:Masters Learn to Row
END:VEVENT
BEGIN:VEVENT
DTSTART;VALUE=DATE:20240713
DTEND;VALUE=DATE:20240721
DTSTAMP:20260423T162739
CREATED:20240602T201239Z
LAST-MODIFIED:20240603T160631Z
UID:2715-1720828800-1721519999@kenmorerowing.org
SUMMARY:2024 Q3A Learn to Scull Clinic
DESCRIPTION:For rowers who have experience sweeping\, but want to learn to scull. Two sessions in July 2024! \n7:00-9:00AM Saturday July 13 and Saturday July 20
URL:https://kenmorerowing.org/event/2024-q3a-learn-to-scull-clinic/
LOCATION:Kenmore Community Boathouse\, 17104 68th Ave NE\, Kenmore\, WA\, 98028\, United States
CATEGORIES:Masters Learn to Row
END:VEVENT
BEGIN:VEVENT
DTSTART;VALUE=DATE:20240708
DTEND;VALUE=DATE:20240801
DTSTAMP:20260423T162739
CREATED:20240602T201540Z
LAST-MODIFIED:20240602T201540Z
UID:2717-1720396800-1722470399@kenmorerowing.org
SUMMARY:2024 Q3A Learn to Row
DESCRIPTION:Monday & Wednesday evenings from 6:30PM-8:30PM. 8 sessions.
URL:https://kenmorerowing.org/event/2024-q3a-learn-to-row/
LOCATION:WA
CATEGORIES:Masters Learn to Row
END:VEVENT
BEGIN:VEVENT
DTSTART;VALUE=DATE:20230820
DTEND;VALUE=DATE:20230930
DTSTAMP:20260423T162739
CREATED:20230831T191141Z
LAST-MODIFIED:20230831T191440Z
UID:2307-1692489600-1696031999@kenmorerowing.org
SUMMARY:Q3B Adult Rowing 2023
DESCRIPTION:Learn to Row– Tuesday and Thursdays 8:30-10:30am \nAug 22-September 28\, $264\, financial aid available \nLimited to 10! Learn more here \nSummer experienced teams: great for those with a bit of rowing experienced and  interested in solid training at practice. We average between 9-11km per practice and both sweep and scull. \nSundays 8-10am\, 8/20-9/24\, $132 \nT/Th 6-8am\, 8/22-9/28\, $264 \nSummer Intermediate team: great for those who have recently taken a Learn to Row Course\, and also for those interested in focusing on technique. Both sweeping and sculling\, if you don’t know how to\, we’ll teach you! This is a trial period for this team. \nM/W 6:30-8:30am\, 8/21-9/27\, $242 \nFees and info here \nNo crew: summer break 8/12-19; Labor Day 9/4
URL:https://kenmorerowing.org/event/q3b-adult-rowing-2023/
LOCATION:Kenmore Community Boathouse\, 17104 68th Ave NE\, Kenmore\, WA\, 98028\, United States
CATEGORIES:Masters Learn to Row,Masters Rowing
END:VEVENT
BEGIN:VEVENT
DTSTART;VALUE=DATE:20230705
DTEND;VALUE=DATE:20230812
DTSTAMP:20260423T162739
CREATED:20230831T191802Z
LAST-MODIFIED:20230831T191802Z
UID:2309-1688515200-1691798399@kenmorerowing.org
SUMMARY:Q3A Adult Rowing 2023
DESCRIPTION:
URL:https://kenmorerowing.org/event/q3a-adult-rowing-2023/
LOCATION:Kenmore Community Boathouse\, 17104 68th Ave NE\, Kenmore\, WA\, 98028\, United States
CATEGORIES:Masters Learn to Row,Masters Rowing
END:VEVENT
BEGIN:VEVENT
DTSTART;VALUE=DATE:20230521
DTEND;VALUE=DATE:20230630
DTSTAMP:20260423T162739
CREATED:20230831T192217Z
LAST-MODIFIED:20230831T192217Z
UID:2311-1684627200-1688083199@kenmorerowing.org
SUMMARY:Q2B Adult Rowing 2023
DESCRIPTION:
URL:https://kenmorerowing.org/event/q2b-adult-rowing-2023/
LOCATION:Kenmore Community Boathouse\, 17104 68th Ave NE\, Kenmore\, WA\, 98028\, United States
CATEGORIES:Masters Learn to Row,Masters Rowing
END:VEVENT
END:VCALENDAR