BEGIN:VCALENDAR
VERSION:2.0
PRODID:-//Kenmore Community Rowing Club - ECPv6.15.20//NONSGML v1.0//EN
CALSCALE:GREGORIAN
METHOD:PUBLISH
X-ORIGINAL-URL:https://kenmorerowing.org
X-WR-CALDESC:Events for Kenmore Community Rowing Club
REFRESH-INTERVAL;VALUE=DURATION:PT1H
X-Robots-Tag:noindex
X-PUBLISHED-TTL:PT1H
BEGIN:VTIMEZONE
TZID:America/Los_Angeles
BEGIN:DAYLIGHT
TZOFFSETFROM:-0800
TZOFFSETTO:-0700
TZNAME:PDT
DTSTART:20220313T100000
END:DAYLIGHT
BEGIN:STANDARD
TZOFFSETFROM:-0700
TZOFFSETTO:-0800
TZNAME:PST
DTSTART:20221106T090000
END:STANDARD
BEGIN:DAYLIGHT
TZOFFSETFROM:-0800
TZOFFSETTO:-0700
TZNAME:PDT
DTSTART:20230312T100000
END:DAYLIGHT
BEGIN:STANDARD
TZOFFSETFROM:-0700
TZOFFSETTO:-0800
TZNAME:PST
DTSTART:20231105T090000
END:STANDARD
BEGIN:DAYLIGHT
TZOFFSETFROM:-0800
TZOFFSETTO:-0700
TZNAME:PDT
DTSTART:20240310T100000
END:DAYLIGHT
BEGIN:STANDARD
TZOFFSETFROM:-0700
TZOFFSETTO:-0800
TZNAME:PST
DTSTART:20241103T090000
END:STANDARD
END:VTIMEZONE
BEGIN:VEVENT
DTSTART;VALUE=DATE:20231001
DTEND;VALUE=DATE:20231117
DTSTAMP:20260425T094812
CREATED:20230831T074349Z
LAST-MODIFIED:20230925T034759Z
UID:2270-1696118400-1700179199@kenmorerowing.org
SUMMARY:Q4A Adult Rowing 2003
DESCRIPTION:Tuesday/Thursday Experienced Team\n6am-8am $308 (14 sessions) \nMonday/Wednesday Intermediate Team\n6:30am-8:30am $308 (14 sessions) \nSunday Experienced Team\n8am-10am $154 (7 sessions) \nNo Fall Learn-to-Row. Will return Spring 2024
URL:https://kenmorerowing.org/event/23q4a/
LOCATION:Kenmore Community Boathouse\, 17104 68th Ave NE\, Kenmore\, WA\, 98028\, United States
CATEGORIES:Masters Rowing
END:VEVENT
END:VCALENDAR