BEGIN:VCALENDAR
VERSION:2.0
PRODID:-//Kenmore Community Rowing Club - ECPv6.15.20//NONSGML v1.0//EN
CALSCALE:GREGORIAN
METHOD:PUBLISH
X-WR-CALNAME:Kenmore Community Rowing Club
X-ORIGINAL-URL:https://kenmorerowing.org
X-WR-CALDESC:Events for Kenmore Community Rowing Club
REFRESH-INTERVAL;VALUE=DURATION:PT1H
X-Robots-Tag:noindex
X-PUBLISHED-TTL:PT1H
BEGIN:VTIMEZONE
TZID:America/Los_Angeles
BEGIN:DAYLIGHT
TZOFFSETFROM:-0800
TZOFFSETTO:-0700
TZNAME:PDT
DTSTART:20230312T100000
END:DAYLIGHT
BEGIN:STANDARD
TZOFFSETFROM:-0700
TZOFFSETTO:-0800
TZNAME:PST
DTSTART:20231105T090000
END:STANDARD
BEGIN:DAYLIGHT
TZOFFSETFROM:-0800
TZOFFSETTO:-0700
TZNAME:PDT
DTSTART:20240310T100000
END:DAYLIGHT
BEGIN:STANDARD
TZOFFSETFROM:-0700
TZOFFSETTO:-0800
TZNAME:PST
DTSTART:20241103T090000
END:STANDARD
BEGIN:DAYLIGHT
TZOFFSETFROM:-0800
TZOFFSETTO:-0700
TZNAME:PDT
DTSTART:20250309T100000
END:DAYLIGHT
BEGIN:STANDARD
TZOFFSETFROM:-0700
TZOFFSETTO:-0800
TZNAME:PST
DTSTART:20251102T090000
END:STANDARD
END:VTIMEZONE
BEGIN:VEVENT
DTSTART;VALUE=DATE:20240603
DTEND;VALUE=DATE:20240709
DTSTAMP:20260424T201547
CREATED:20240523T225920Z
LAST-MODIFIED:20240523T231019Z
UID:2656-1717372800-1720483199@kenmorerowing.org
SUMMARY:2024 Q2B Monday AM Experienced
DESCRIPTION:Experienced Rowing: Monday 6:00-8:00 AM – June 3\, 10\, 17\, 24\, July 1\, 8 (6 practices @ $25 = $150)
URL:https://kenmorerowing.org/event/2024-q2b-monday-am/
LOCATION:Kenmore Community Boathouse\, 17104 68th Ave NE\, Kenmore\, WA\, 98028\, United States
CATEGORIES:Masters Rowing
END:VEVENT
BEGIN:VEVENT
DTSTART;VALUE=DATE:20240603
DTEND;VALUE=DATE:20240709
DTSTAMP:20260424T201547
CREATED:20240602T201911Z
LAST-MODIFIED:20240602T201911Z
UID:2720-1717372800-1720483199@kenmorerowing.org
SUMMARY:2024 Q2B Monday PM Experienced
DESCRIPTION:Experienced Rowing: Monday 6:30-8:30 PM – June 3\, 10\, 17\, 24\, July 1\, 8 (6 practices @ $25 = $150)
URL:https://kenmorerowing.org/event/2024-q2b-monday-pm-experienced/
LOCATION:WA
CATEGORIES:Masters Rowing
END:VEVENT
BEGIN:VEVENT
DTSTART;VALUE=DATE:20240604
DTEND;VALUE=DATE:20240710
DTSTAMP:20260424T201547
CREATED:20240523T230041Z
LAST-MODIFIED:20240523T231027Z
UID:2659-1717459200-1720569599@kenmorerowing.org
SUMMARY:2024 Q2B Tuesday PM Intermediate
DESCRIPTION:Intermediate Rowing: Tuesday 6:30-8:30 PM – June 4\, 11\, 18\, 25\, July 2\, 9 (6 practices @ $25 = $150)
URL:https://kenmorerowing.org/event/2024-q2b-tuesday-pm/
LOCATION:Kenmore Community Boathouse\, 17104 68th Ave NE\, Kenmore\, WA\, 98028\, United States
CATEGORIES:Masters Rowing
END:VEVENT
BEGIN:VEVENT
DTSTART;VALUE=DATE:20240605
DTEND;VALUE=DATE:20240711
DTSTAMP:20260424T201547
CREATED:20240523T230150Z
LAST-MODIFIED:20240523T231034Z
UID:2661-1717545600-1720655999@kenmorerowing.org
SUMMARY:2024 Q2B Wednesday AM Experienced
DESCRIPTION:Experienced Rowing: Wednesday 6:00-8:00 AM – June 5\, 12\, 19\, 26\, July 3\, 10 (6 practices @ $25 = $150)
URL:https://kenmorerowing.org/event/2024-q2b-wednesday-am/
LOCATION:WA
CATEGORIES:Masters Rowing
END:VEVENT
BEGIN:VEVENT
DTSTART;VALUE=DATE:20240606
DTEND;VALUE=DATE:20240712
DTSTAMP:20260424T201547
CREATED:20240523T230319Z
LAST-MODIFIED:20240523T231040Z
UID:2663-1717632000-1720742399@kenmorerowing.org
SUMMARY:2024 Q2B Thursday PM Intermediate
DESCRIPTION:Intermediate Rowing: Thursday 6:30-8:30 PM – June 6\, 13\, 20\, 27\, July 11 (5 practices @ $25 = $125) \nNOTE: No practice on July 4!
URL:https://kenmorerowing.org/event/2024-q2b-thursday-pm/
LOCATION:Kenmore Community Boathouse\, 17104 68th Ave NE\, Kenmore\, WA\, 98028\, United States
CATEGORIES:Masters Rowing
END:VEVENT
BEGIN:VEVENT
DTSTART;VALUE=DATE:20240607
DTEND;VALUE=DATE:20240713
DTSTAMP:20260424T201547
CREATED:20240523T230502Z
LAST-MODIFIED:20240523T231046Z
UID:2665-1717718400-1720828799@kenmorerowing.org
SUMMARY:2024 Q2B Friday AM Experienced
DESCRIPTION:Experienced Rowing: Friday 6:00-8:00 AM – June 7\, 14\, 21\, 28\, July 12 (5 practices @ $25 = $125) \nNOTE: No practice on July 5!
URL:https://kenmorerowing.org/event/2024-q2b-friday-am/
LOCATION:Kenmore Community Boathouse\, 17104 68th Ave NE\, Kenmore\, WA\, 98028\, United States
CATEGORIES:Masters Rowing
END:VEVENT
BEGIN:VEVENT
DTSTART;VALUE=DATE:20240609
DTEND;VALUE=DATE:20240701
DTSTAMP:20260424T201547
CREATED:20240523T230640Z
LAST-MODIFIED:20240523T231052Z
UID:2668-1717891200-1719791999@kenmorerowing.org
SUMMARY:2024 Q2B Sunday AM Experienced
DESCRIPTION:Experienced Rowing: Sunday 7:00-9:00 AM for summer – June 9\, 16\, 23\, 30 (4 practices x $25 = $100) \nNote: NEW time for this summer session!
URL:https://kenmorerowing.org/event/2024-q2b-sunday-am/
LOCATION:Kenmore Community Boathouse\, 17104 68th Ave NE\, Kenmore\, WA\, 98028\, United States
CATEGORIES:Masters Rowing
END:VEVENT
END:VCALENDAR