BEGIN:VCALENDAR
VERSION:2.0
PRODID:-//Kenmore Community Rowing Club - ECPv6.15.20//NONSGML v1.0//EN
CALSCALE:GREGORIAN
METHOD:PUBLISH
X-WR-CALNAME:Kenmore Community Rowing Club
X-ORIGINAL-URL:https://kenmorerowing.org
X-WR-CALDESC:Events for Kenmore Community Rowing Club
REFRESH-INTERVAL;VALUE=DURATION:PT1H
X-Robots-Tag:noindex
X-PUBLISHED-TTL:PT1H
BEGIN:VTIMEZONE
TZID:America/Los_Angeles
BEGIN:DAYLIGHT
TZOFFSETFROM:-0800
TZOFFSETTO:-0700
TZNAME:PDT
DTSTART:20230312T100000
END:DAYLIGHT
BEGIN:STANDARD
TZOFFSETFROM:-0700
TZOFFSETTO:-0800
TZNAME:PST
DTSTART:20231105T090000
END:STANDARD
BEGIN:DAYLIGHT
TZOFFSETFROM:-0800
TZOFFSETTO:-0700
TZNAME:PDT
DTSTART:20240310T100000
END:DAYLIGHT
BEGIN:STANDARD
TZOFFSETFROM:-0700
TZOFFSETTO:-0800
TZNAME:PST
DTSTART:20241103T090000
END:STANDARD
BEGIN:DAYLIGHT
TZOFFSETFROM:-0800
TZOFFSETTO:-0700
TZNAME:PDT
DTSTART:20250309T100000
END:DAYLIGHT
BEGIN:STANDARD
TZOFFSETFROM:-0700
TZOFFSETTO:-0800
TZNAME:PST
DTSTART:20251102T090000
END:STANDARD
BEGIN:DAYLIGHT
TZOFFSETFROM:-0800
TZOFFSETTO:-0700
TZNAME:PDT
DTSTART:20260308T100000
END:DAYLIGHT
BEGIN:STANDARD
TZOFFSETFROM:-0700
TZOFFSETTO:-0800
TZNAME:PST
DTSTART:20261101T090000
END:STANDARD
END:VTIMEZONE
BEGIN:VEVENT
DTSTART;VALUE=DATE:20240727
DTEND;VALUE=DATE:20240825
DTSTAMP:20260425T094058
CREATED:20240627T033239Z
LAST-MODIFIED:20240627T033359Z
UID:2801-1722038400-1724543999@kenmorerowing.org
SUMMARY:2024 Q3A Saturday AM Experienced
DESCRIPTION:This is for experienced rowers interested in the 2024 Q3A Saturday Morning Experienced team\, 7:00-9:00am. Learn more on the team home page. \nMembership is required to join this session. Please also pay your team fee and submit required forms via your iCrew account. \nAssociated Teams/Groups\n2024 Q3A SAT AM Experienced (7/27-8/24)\nSaturday Morning Rowing\, 7:00-9:00 am. 7/27\, 8/3\, 8/10\, 8/17\, 8/24
URL:https://kenmorerowing.org/event/2024-q3a-saturday-am-experienced/
LOCATION:Kenmore Community Boathouse\, 17104 68th Ave NE\, Kenmore\, WA\, 98028\, United States
CATEGORIES:Masters Rowing
END:VEVENT
BEGIN:VEVENT
DTSTART;VALUE=DATE:20240903
DTEND;VALUE=DATE:20241014
DTSTAMP:20260425T094058
CREATED:20240820T043840Z
LAST-MODIFIED:20240820T043840Z
UID:2828-1725321600-1728863999@kenmorerowing.org
SUMMARY:2024 Q3B
DESCRIPTION:Experienced and Intermediate sessions available. See Adult Membership page for Q3B schedule.
URL:https://kenmorerowing.org/event/2024-q3b/
LOCATION:Kenmore Community Boathouse\, 17104 68th Ave NE\, Kenmore\, WA\, 98028\, United States
CATEGORIES:Masters Rowing
END:VEVENT
BEGIN:VEVENT
DTSTART;VALUE=DATE:20241014
DTEND;VALUE=DATE:20241118
DTSTAMP:20260425T094058
CREATED:20241006T040120Z
LAST-MODIFIED:20241006T040120Z
UID:2892-1728864000-1731887999@kenmorerowing.org
SUMMARY:2024 Q4A
DESCRIPTION:Experienced and Intermediate sessions available. See Adult Membership page for Q4A schedule.
URL:https://kenmorerowing.org/event/2024-q4a/
LOCATION:Kenmore Community Boathouse\, 17104 68th Ave NE\, Kenmore\, WA\, 98028\, United States
CATEGORIES:Masters Rowing
END:VEVENT
BEGIN:VEVENT
DTSTART;VALUE=DATE:20241118
DTEND;VALUE=DATE:20241223
DTSTAMP:20260425T094058
CREATED:20241108T203828Z
LAST-MODIFIED:20241108T203828Z
UID:2928-1731888000-1734911999@kenmorerowing.org
SUMMARY:2024 Q4B
DESCRIPTION:Experienced and Intermediate sessions available. See Adult Membership page for Q4B schedule.
URL:https://kenmorerowing.org/event/2024-q4b/
LOCATION:Kenmore Community Boathouse\, 17104 68th Ave NE\, Kenmore\, WA\, 98028\, United States
CATEGORIES:Masters Rowing
END:VEVENT
BEGIN:VEVENT
DTSTART;VALUE=DATE:20250106
DTEND;VALUE=DATE:20250217
DTSTAMP:20260425T094058
CREATED:20241230T175628Z
LAST-MODIFIED:20241230T175936Z
UID:2968-1736121600-1739750399@kenmorerowing.org
SUMMARY:2025 Q1A
DESCRIPTION:Experienced and Intermediate sessions available. 6 Sessions. \n\n\n\nDay of Week\nTimes\nDates\nLevel\nPractices\nFee\n\n\nMonday\n6:00-8:00 AM\nJan 6 – Feb 10\nExperienced\n6\n$150\n\n\nTuesday\n6:00-8:00 AM\nJan 7 – Feb 11\nIntermediate\n6\n$150\n\n\nWednesday\n6:00-8:00 AM\nJan 8 – Feb 12\nExperienced\n6\n$150\n\n\nThursday\n6:00-8:00 AM\nJan 9 – Feb 13\nIntermediate\n6\n$150\n\n\nFriday\n6:00-8:00 AM\nJan 10 – Feb 14\nExperienced\n6\n$150\n\n\nSunday\n8:00-10:00 AM\nJan 12 – Feb 17\nExperienced\n6\n$150
URL:https://kenmorerowing.org/event/2025-q1a/
LOCATION:Kenmore Community Boathouse\, 17104 68th Ave NE\, Kenmore\, WA\, 98028\, United States
CATEGORIES:Masters Rowing
END:VEVENT
END:VCALENDAR