BEGIN:VCALENDAR
VERSION:2.0
PRODID:-//Kenmore Community Rowing Club - ECPv6.15.20//NONSGML v1.0//EN
CALSCALE:GREGORIAN
METHOD:PUBLISH
X-WR-CALNAME:Kenmore Community Rowing Club
X-ORIGINAL-URL:https://kenmorerowing.org
X-WR-CALDESC:Events for Kenmore Community Rowing Club
REFRESH-INTERVAL;VALUE=DURATION:PT1H
X-Robots-Tag:noindex
X-PUBLISHED-TTL:PT1H
BEGIN:VTIMEZONE
TZID:America/Los_Angeles
BEGIN:DAYLIGHT
TZOFFSETFROM:-0800
TZOFFSETTO:-0700
TZNAME:PDT
DTSTART:20220313T100000
END:DAYLIGHT
BEGIN:STANDARD
TZOFFSETFROM:-0700
TZOFFSETTO:-0800
TZNAME:PST
DTSTART:20221106T090000
END:STANDARD
BEGIN:DAYLIGHT
TZOFFSETFROM:-0800
TZOFFSETTO:-0700
TZNAME:PDT
DTSTART:20230312T100000
END:DAYLIGHT
BEGIN:STANDARD
TZOFFSETFROM:-0700
TZOFFSETTO:-0800
TZNAME:PST
DTSTART:20231105T090000
END:STANDARD
BEGIN:DAYLIGHT
TZOFFSETFROM:-0800
TZOFFSETTO:-0700
TZNAME:PDT
DTSTART:20240310T100000
END:DAYLIGHT
BEGIN:STANDARD
TZOFFSETFROM:-0700
TZOFFSETTO:-0800
TZNAME:PST
DTSTART:20241103T090000
END:STANDARD
BEGIN:DAYLIGHT
TZOFFSETFROM:-0800
TZOFFSETTO:-0700
TZNAME:PDT
DTSTART:20250309T100000
END:DAYLIGHT
BEGIN:STANDARD
TZOFFSETFROM:-0700
TZOFFSETTO:-0800
TZNAME:PST
DTSTART:20251102T090000
END:STANDARD
BEGIN:DAYLIGHT
TZOFFSETFROM:-0800
TZOFFSETTO:-0700
TZNAME:PDT
DTSTART:20260308T100000
END:DAYLIGHT
BEGIN:STANDARD
TZOFFSETFROM:-0700
TZOFFSETTO:-0800
TZNAME:PST
DTSTART:20261101T090000
END:STANDARD
END:VTIMEZONE
BEGIN:VEVENT
DTSTART;VALUE=DATE:20250927
DTEND;VALUE=DATE:20250928
DTSTAMP:20260423T162740
CREATED:20250906T173828Z
LAST-MODIFIED:20250906T173828Z
UID:3126-1758931200-1759017599@kenmorerowing.org
SUMMARY:Otter Island 2025
DESCRIPTION:Join KCRC at the Otter Island Regatta! \nSaturday\, September 27th 2025 \nEverett\, WA \n→ Sign up HERE \n→ Register by 08/27/25
URL:https://kenmorerowing.org/event/otter-island-2025/
CATEGORIES:Regattas
END:VEVENT
BEGIN:VEVENT
DTSTART;TZID=America/Los_Angeles:20231008T080000
DTEND;TZID=America/Los_Angeles:20231008T150000
DTSTAMP:20260423T162740
CREATED:20230917T024915Z
LAST-MODIFIED:20230917T024915Z
UID:2401-1696752000-1696777200@kenmorerowing.org
SUMMARY:American Lake Fall Classic 2023
DESCRIPTION:American Lake Fall Classic\, Lakewood (Tillicum)\, WA \n5K HEAD RACE HOSTED BY JUNIORS • COLLEGIATE • OPEN ADAPTIVE • MASTERS • NOVICE • MIXED
URL:https://kenmorerowing.org/event/american-lake-fall-classic-2023/
LOCATION:Commencement Bay Rowing Club\, 8928 North Thorne Lane SW\, Lakewood\, WA\, 98498\, United States
CATEGORIES:Regattas
ORGANIZER;CN="Commencement Bay Rowing Club":MAILTO:commencementbayrowingclub@gmail.com
END:VEVENT
BEGIN:VEVENT
DTSTART;TZID=America/Los_Angeles:20231001T070000
DTEND;TZID=America/Los_Angeles:20231001T130000
DTSTAMP:20260423T162740
CREATED:20230831T064427Z
LAST-MODIFIED:20230917T024014Z
UID:2268-1696143600-1696165200@kenmorerowing.org
SUMMARY:Tail of the Lake 2023
DESCRIPTION:29th Annual Tail of the Lake Regatta\nHosted By Holy Names Academy\n4k race course\, Lake Union
URL:https://kenmorerowing.org/event/tail-of-the-lake-2023/
CATEGORIES:Regattas
END:VEVENT
BEGIN:VEVENT
DTSTART;TZID=America/Los_Angeles:20230916T080000
DTEND;TZID=America/Los_Angeles:20230916T120000
DTSTAMP:20260423T162740
CREATED:20230831T063728Z
LAST-MODIFIED:20230831T185240Z
UID:2263-1694851200-1694865600@kenmorerowing.org
SUMMARY:Otter Island Touring Regatta 2023
DESCRIPTION:This is a ‘touring regatta’\, a scenic row down the Snohomish River. This is one of ERA’s main fundraisers\, entry fee includes catered salmon lunch and is $90 (lunch only is $45). This regatta is special: ERA provides the equipment\, and the youth rowers all volunteer\, so they valet your boat and oars to/from the dock. They also cox the race. The main course is catered\, but all the ERA members bring sides and desserts so there should be options for everyone (last year there were gf and veg/vegan sides and desserts).
URL:https://kenmorerowing.org/event/otter-island-touring-regatta-2023/
CATEGORIES:Regattas
ORGANIZER;CN="Everett Rowing":MAILTO:director@everettrowing.com
END:VEVENT
END:VCALENDAR