BEGIN:VCALENDAR
VERSION:2.0
PRODID:-//Kenmore Community Rowing Club - ECPv6.15.20//NONSGML v1.0//EN
CALSCALE:GREGORIAN
METHOD:PUBLISH
X-ORIGINAL-URL:https://kenmorerowing.org
X-WR-CALDESC:Events for Kenmore Community Rowing Club
REFRESH-INTERVAL;VALUE=DURATION:PT1H
X-Robots-Tag:noindex
X-PUBLISHED-TTL:PT1H
BEGIN:VTIMEZONE
TZID:America/Los_Angeles
BEGIN:DAYLIGHT
TZOFFSETFROM:-0800
TZOFFSETTO:-0700
TZNAME:PDT
DTSTART:20220313T100000
END:DAYLIGHT
BEGIN:STANDARD
TZOFFSETFROM:-0700
TZOFFSETTO:-0800
TZNAME:PST
DTSTART:20221106T090000
END:STANDARD
BEGIN:DAYLIGHT
TZOFFSETFROM:-0800
TZOFFSETTO:-0700
TZNAME:PDT
DTSTART:20230312T100000
END:DAYLIGHT
BEGIN:STANDARD
TZOFFSETFROM:-0700
TZOFFSETTO:-0800
TZNAME:PST
DTSTART:20231105T090000
END:STANDARD
BEGIN:DAYLIGHT
TZOFFSETFROM:-0800
TZOFFSETTO:-0700
TZNAME:PDT
DTSTART:20240310T100000
END:DAYLIGHT
BEGIN:STANDARD
TZOFFSETFROM:-0700
TZOFFSETTO:-0800
TZNAME:PST
DTSTART:20241103T090000
END:STANDARD
BEGIN:DAYLIGHT
TZOFFSETFROM:-0800
TZOFFSETTO:-0700
TZNAME:PDT
DTSTART:20250309T100000
END:DAYLIGHT
BEGIN:STANDARD
TZOFFSETFROM:-0700
TZOFFSETTO:-0800
TZNAME:PST
DTSTART:20251102T090000
END:STANDARD
BEGIN:DAYLIGHT
TZOFFSETFROM:-0800
TZOFFSETTO:-0700
TZNAME:PDT
DTSTART:20260308T100000
END:DAYLIGHT
BEGIN:STANDARD
TZOFFSETFROM:-0700
TZOFFSETTO:-0800
TZNAME:PST
DTSTART:20261101T090000
END:STANDARD
END:VTIMEZONE
BEGIN:VEVENT
DTSTART;TZID=America/Los_Angeles:20250809T140000
DTEND;TZID=America/Los_Angeles:20250809T160000
DTSTAMP:20260423T103508
CREATED:20250419T002556Z
LAST-MODIFIED:20250419T002556Z
UID:3057-1754748000-1754755200@kenmorerowing.org
SUMMARY:Social Saturdays
DESCRIPTION:This Saturday (08/09)\, starting with a casual row from 2-4pm\, directly followed by Happy Hour at Postdoc Brewing. Come for a row\, come for a drink\, or come for both!
URL:https://kenmorerowing.org/event/social-saturdays-2025-08-09/
LOCATION:Kenmore Community Boathouse\, 17104 68th Ave NE\, Kenmore\, WA\, 98028\, United States
CATEGORIES:Social
END:VEVENT
BEGIN:VEVENT
DTSTART;TZID=America/Los_Angeles:20250405T140000
DTEND;TZID=America/Los_Angeles:20250405T160000
DTSTAMP:20260423T103508
CREATED:20250203T172634Z
LAST-MODIFIED:20250203T172634Z
UID:3001-1743861600-1743868800@kenmorerowing.org
SUMMARY:Social Saturdays
DESCRIPTION:This Saturday (04/05)\, starting with a casual row from 2-4pm\, directly followed by Happy Hour at Postdoc Brewing. Come for a row\, come for a drink\, or come for both!
URL:https://kenmorerowing.org/event/social-saturdays-2025-04-05/
LOCATION:Kenmore Community Boathouse\, 17104 68th Ave NE\, Kenmore\, WA\, 98028\, United States
CATEGORIES:Social
END:VEVENT
BEGIN:VEVENT
DTSTART;TZID=America/Los_Angeles:20250308T140000
DTEND;TZID=America/Los_Angeles:20250308T160000
DTSTAMP:20260423T103508
CREATED:20250203T172451Z
LAST-MODIFIED:20250203T172451Z
UID:2999-1741442400-1741449600@kenmorerowing.org
SUMMARY:Social Saturdays
DESCRIPTION:This Saturday (03/08)\, starting with a casual row from 2-4pm\, directly followed by Happy Hour at Postdoc Brewing. Come for a row\, come for a drink\, or come for both!
URL:https://kenmorerowing.org/event/social-saturdays-2025-03-08/
LOCATION:Kenmore Community Boathouse\, 17104 68th Ave NE\, Kenmore\, WA\, 98028\, United States
CATEGORIES:Social
END:VEVENT
BEGIN:VEVENT
DTSTART;TZID=America/Los_Angeles:20250208T140000
DTEND;TZID=America/Los_Angeles:20250208T160000
DTSTAMP:20260423T103508
CREATED:20250203T172204Z
LAST-MODIFIED:20250203T172330Z
UID:2997-1739023200-1739030400@kenmorerowing.org
SUMMARY:Social Saturdays
DESCRIPTION:This Saturday (02/08)\, starting with a casual row from 2-4pm\, directly followed by Happy Hour at Postdoc Brewing. Come for a row\, come for a drink\, or come for both!
URL:https://kenmorerowing.org/event/social-saturdays-2025-02-08/
LOCATION:Kenmore Community Boathouse\, 17104 68th Ave NE\, Kenmore\, WA\, 98028\, United States
CATEGORIES:Social
END:VEVENT
BEGIN:VEVENT
DTSTART;TZID=America/Los_Angeles:20241207T150000
DTEND;TZID=America/Los_Angeles:20241207T170000
DTSTAMP:20260423T103508
CREATED:20241006T041517Z
LAST-MODIFIED:20241006T041517Z
UID:2906-1733583600-1733590800@kenmorerowing.org
SUMMARY:Social Saturdays
DESCRIPTION:
URL:https://kenmorerowing.org/event/social-saturdays-dec-7-2024/
LOCATION:Kenmore Community Boathouse\, 17104 68th Ave NE\, Kenmore\, WA\, 98028\, United States
CATEGORIES:Social
END:VEVENT
BEGIN:VEVENT
DTSTART;TZID=America/Los_Angeles:20241109T150000
DTEND;TZID=America/Los_Angeles:20241109T170000
DTSTAMP:20260423T103508
CREATED:20241006T041256Z
LAST-MODIFIED:20241006T041256Z
UID:2902-1731164400-1731171600@kenmorerowing.org
SUMMARY:Social Saturdays
DESCRIPTION:
URL:https://kenmorerowing.org/event/social-saturdays-nov-9-2024/
LOCATION:Kenmore Community Boathouse\, 17104 68th Ave NE\, Kenmore\, WA\, 98028\, United States
CATEGORIES:Social
END:VEVENT
BEGIN:VEVENT
DTSTART;TZID=America/Los_Angeles:20241005T150000
DTEND;TZID=America/Los_Angeles:20241005T164500
DTSTAMP:20260423T103508
CREATED:20241006T041020Z
LAST-MODIFIED:20241006T041610Z
UID:2900-1728140400-1728146700@kenmorerowing.org
SUMMARY:Social Saturdays
DESCRIPTION:This Saturday (10/05)\, starting with a casual row from 3-4:45pm\, directly followed by Happy Hour at Postdoc Brewing. Come for a row\, come for a drink\, or come for both! \n  \n 
URL:https://kenmorerowing.org/event/social-saturdays-oct-5-2024/
LOCATION:Kenmore Community Boathouse\, 17104 68th Ave NE\, Kenmore\, WA\, 98028\, United States
CATEGORIES:Social
END:VEVENT
BEGIN:VEVENT
DTSTART;TZID=America/Los_Angeles:20231209T090000
DTEND;TZID=America/Los_Angeles:20231209T120000
DTSTAMP:20260423T103508
CREATED:20231024T064201Z
LAST-MODIFIED:20231118T191805Z
UID:2426-1702112400-1702123200@kenmorerowing.org
SUMMARY:2023 Holiday Toy Drive Row
DESCRIPTION:Sign up for the 2023 Holiday Row and Toy Drive (and Potluck Brunch)! \n\nRow 9-11 AM\n(Weather permitting\, we may move festivities indoors for an Ergatta)\nPotluck 11-12 PM\n\nOur Annual event is open to folks who participated with KCRC in 2023\, regardless if you’re currently rowing. If you’re not interested in rowing in the cold (no judgement!)\, please sign up to join us for the potluck social after the row. \nRSVP required\, due 12/07. Sign up here.
URL:https://kenmorerowing.org/event/2023-holiday-toy-drive-row/
LOCATION:Kenmore Community Boathouse\, 17104 68th Ave NE\, Kenmore\, WA\, 98028\, United States
CATEGORIES:Social
END:VEVENT
BEGIN:VEVENT
DTSTART;TZID=America/Los_Angeles:20231110T170000
DTEND;TZID=America/Los_Angeles:20231110T220000
DTSTAMP:20260423T103508
CREATED:20231024T063955Z
LAST-MODIFIED:20231024T063955Z
UID:2424-1699635600-1699653600@kenmorerowing.org
SUMMARY:KCRC Social @ Vulpine Taproom
DESCRIPTION:Join us from 5-11pm at this 21+ locally owned business for beverages and bites. 10% of the evening’s sales will be donated to KCRC! \nVulpine is located in the upper parking area of the Lake Forest Park town center. Dogs are welcome!
URL:https://kenmorerowing.org/event/kcrc-social-vulpine-taproom/
LOCATION:Vulpine Taproom\, 17171 Bothell Way NE STE A015\, Lake Forest Park\, WA\, 98155\, United States
CATEGORIES:Social
END:VEVENT
BEGIN:VEVENT
DTSTART;TZID=America/Los_Angeles:20230723T110000
DTEND;TZID=America/Los_Angeles:20230723T130000
DTSTAMP:20260423T103508
CREATED:20230831T235534Z
LAST-MODIFIED:20230831T235534Z
UID:2337-1690110000-1690117200@kenmorerowing.org
SUMMARY:"Boys on the Boat" UW Shell House Tour
DESCRIPTION:Private club tour of the UW ASU Shell House\nJoin KCRC for a PRIVATE “Boys on the Boat” / University of Washington Shell House Tour! Sunday\, July 23rd at 11 AM (90 min to 2 hrs in length).  Tickets are $25/person\, recommended ages 13 and up.  All are welcome – so bring family and friends. Tour has a five person minimum and fifty person max\, so secure your spot(s) ASAP!
URL:https://kenmorerowing.org/event/boys-on-the-boat-uw-shell-house-tour/
LOCATION:WA
CATEGORIES:Social
END:VEVENT
BEGIN:VEVENT
DTSTART;TZID=America/Los_Angeles:20230714T180000
DTEND;TZID=America/Los_Angeles:20230714T230000
DTSTAMP:20260423T103508
CREATED:20230813T042950Z
LAST-MODIFIED:20230831T190205Z
UID:2216-1689357600-1689375600@kenmorerowing.org
SUMMARY:Community Fundraising Night at Vulpine Taproom
DESCRIPTION:Join us from 6-11pm at this 21+ locally owned business for beverages and bites. They will donate 10% of the evening’s profits to KCRC! \nVulpine is located in the upper parking area of the Lake Forest Park town center. Dogs are welcome!
URL:https://kenmorerowing.org/event/community-fundraising-night-at-vulpine-taproom/
LOCATION:Vulpine Taproom\, 17171 Bothell Way NE STE A015\, Lake Forest Park\, WA\, 98155\, United States
CATEGORIES:Social
END:VEVENT
BEGIN:VEVENT
DTSTART;TZID=America/Los_Angeles:20230511T160000
DTEND;TZID=America/Los_Angeles:20230511T210000
DTSTAMP:20260423T103508
CREATED:20230505T191424Z
LAST-MODIFIED:20230831T190207Z
UID:2141-1683820800-1683838800@kenmorerowing.org
SUMMARY:Pint Night at Cairn Brewing
DESCRIPTION:Our friends at Cairn Brewing invited us back for our second Pint Night. They will donate 10% of sales to KCRC. Cairn Brewing is a family and dog friendly business! \nStop by for a tasting flight\, or if you can’t stay\, purchase a growler for a future celebration!
URL:https://kenmorerowing.org/event/pint-night-at-cairn-brewing/
LOCATION:Carin Brewing\, 7204 NE 175th St\, Kenmore\, WA\, 98028\, United States
CATEGORIES:Social
END:VEVENT
END:VCALENDAR