BEGIN:VCALENDAR
VERSION:2.0
PRODID:-//Kenmore Community Rowing Club - ECPv6.15.20//NONSGML v1.0//EN
CALSCALE:GREGORIAN
METHOD:PUBLISH
X-WR-CALNAME:Kenmore Community Rowing Club
X-ORIGINAL-URL:https://kenmorerowing.org
X-WR-CALDESC:Events for Kenmore Community Rowing Club
REFRESH-INTERVAL;VALUE=DURATION:PT1H
X-Robots-Tag:noindex
X-PUBLISHED-TTL:PT1H
BEGIN:VTIMEZONE
TZID:America/Los_Angeles
BEGIN:DAYLIGHT
TZOFFSETFROM:-0800
TZOFFSETTO:-0700
TZNAME:PDT
DTSTART:20220313T100000
END:DAYLIGHT
BEGIN:STANDARD
TZOFFSETFROM:-0700
TZOFFSETTO:-0800
TZNAME:PST
DTSTART:20221106T090000
END:STANDARD
BEGIN:DAYLIGHT
TZOFFSETFROM:-0800
TZOFFSETTO:-0700
TZNAME:PDT
DTSTART:20230312T100000
END:DAYLIGHT
BEGIN:STANDARD
TZOFFSETFROM:-0700
TZOFFSETTO:-0800
TZNAME:PST
DTSTART:20231105T090000
END:STANDARD
BEGIN:DAYLIGHT
TZOFFSETFROM:-0800
TZOFFSETTO:-0700
TZNAME:PDT
DTSTART:20240310T100000
END:DAYLIGHT
BEGIN:STANDARD
TZOFFSETFROM:-0700
TZOFFSETTO:-0800
TZNAME:PST
DTSTART:20241103T090000
END:STANDARD
END:VTIMEZONE
BEGIN:VEVENT
DTSTART;TZID=America/Los_Angeles:20230714T180000
DTEND;TZID=America/Los_Angeles:20230714T230000
DTSTAMP:20260423T115552
CREATED:20230813T042950Z
LAST-MODIFIED:20230831T190205Z
UID:2216-1689357600-1689375600@kenmorerowing.org
SUMMARY:Community Fundraising Night at Vulpine Taproom
DESCRIPTION:Join us from 6-11pm at this 21+ locally owned business for beverages and bites. They will donate 10% of the evening’s profits to KCRC! \nVulpine is located in the upper parking area of the Lake Forest Park town center. Dogs are welcome!
URL:https://kenmorerowing.org/event/community-fundraising-night-at-vulpine-taproom/
LOCATION:Vulpine Taproom\, 17171 Bothell Way NE STE A015\, Lake Forest Park\, WA\, 98155\, United States
CATEGORIES:Social
END:VEVENT
BEGIN:VEVENT
DTSTART;TZID=America/Los_Angeles:20230511T160000
DTEND;TZID=America/Los_Angeles:20230511T210000
DTSTAMP:20260423T115552
CREATED:20230505T191424Z
LAST-MODIFIED:20230831T190207Z
UID:2141-1683820800-1683838800@kenmorerowing.org
SUMMARY:Pint Night at Cairn Brewing
DESCRIPTION:Our friends at Cairn Brewing invited us back for our second Pint Night. They will donate 10% of sales to KCRC. Cairn Brewing is a family and dog friendly business! \nStop by for a tasting flight\, or if you can’t stay\, purchase a growler for a future celebration!
URL:https://kenmorerowing.org/event/pint-night-at-cairn-brewing/
LOCATION:Carin Brewing\, 7204 NE 175th St\, Kenmore\, WA\, 98028\, United States
CATEGORIES:Social
END:VEVENT
END:VCALENDAR